BEGIN:VCALENDAR
VERSION:2.0
PRODID:-//Veranstaltungen Brüssower Land - ECPv6.15.20//NONSGML v1.0//EN
CALSCALE:GREGORIAN
METHOD:PUBLISH
X-WR-CALNAME:Veranstaltungen Brüssower Land
X-ORIGINAL-URL:https://bruessowerland.de
X-WR-CALDESC:Veranstaltungen für Veranstaltungen Brüssower Land
REFRESH-INTERVAL;VALUE=DURATION:PT1H
X-Robots-Tag:noindex
X-PUBLISHED-TTL:PT1H
BEGIN:VTIMEZONE
TZID:Europe/Berlin
BEGIN:DAYLIGHT
TZOFFSETFROM:+0100
TZOFFSETTO:+0200
TZNAME:CEST
DTSTART:20220327T010000
END:DAYLIGHT
BEGIN:STANDARD
TZOFFSETFROM:+0200
TZOFFSETTO:+0100
TZNAME:CET
DTSTART:20221030T010000
END:STANDARD
BEGIN:DAYLIGHT
TZOFFSETFROM:+0100
TZOFFSETTO:+0200
TZNAME:CEST
DTSTART:20230326T010000
END:DAYLIGHT
BEGIN:STANDARD
TZOFFSETFROM:+0200
TZOFFSETTO:+0100
TZNAME:CET
DTSTART:20231029T010000
END:STANDARD
BEGIN:DAYLIGHT
TZOFFSETFROM:+0100
TZOFFSETTO:+0200
TZNAME:CEST
DTSTART:20240331T010000
END:DAYLIGHT
BEGIN:STANDARD
TZOFFSETFROM:+0200
TZOFFSETTO:+0100
TZNAME:CET
DTSTART:20241027T010000
END:STANDARD
BEGIN:DAYLIGHT
TZOFFSETFROM:+0100
TZOFFSETTO:+0200
TZNAME:CEST
DTSTART:20250330T010000
END:DAYLIGHT
BEGIN:STANDARD
TZOFFSETFROM:+0200
TZOFFSETTO:+0100
TZNAME:CET
DTSTART:20251026T010000
END:STANDARD
BEGIN:DAYLIGHT
TZOFFSETFROM:+0100
TZOFFSETTO:+0200
TZNAME:CEST
DTSTART:20260329T010000
END:DAYLIGHT
BEGIN:STANDARD
TZOFFSETFROM:+0200
TZOFFSETTO:+0100
TZNAME:CET
DTSTART:20261025T010000
END:STANDARD
END:VTIMEZONE
BEGIN:VEVENT
DTSTART;TZID=Europe/Berlin:20251106T190000
DTEND;TZID=Europe/Berlin:20251106T210000
DTSTAMP:20260421T102337
CREATED:20250907T120655Z
LAST-MODIFIED:20250907T120655Z
UID:10000936-1762455600-1762462800@bruessowerland.de
SUMMARY:Lesung – „Tabakpech“ mit Eva-Martina Weyer
DESCRIPTION:In ihrer Familiengeschichte „Tabakpech“ erzählt Eva-Martina Weyer vom Leben im unteren Odertal zwischen 1930 und 1995 – geprägt von Tabakanbau\, Tradition und verpassten Träumen. Poetisch\, mit märchenhaftem Ton\, führt die Autorin durch eine Welt\, in der Tabak Schicksale bestimmt. \nEintritt: 12 € | Kartenreservierung unter 0151 67555972 oder q-dorf-verein@gmail.com
URL:https://bruessowerland.de/events/lesung-tabakpech-mit-eva-martina-weyer/
LOCATION:Schloss Rothenklempenow\, Schlossstraße 2\, Rothenklempenow\, Mecklenburg-Vorpommern\, 17321\, Deutschland
CATEGORIES:Bühne & Musik,Vortrag & Mitreden
ATTACH;FMTTYPE=image/jpeg:https://bruessowerland.de/wp-content/uploads/2025/09/Portraet-Weyer-e1757246792622.jpg
ORGANIZER;CN="Q-Dorf e.V.":MAILTO:q.dorf.verein@gmail.com
END:VEVENT
BEGIN:VEVENT
DTSTART;TZID=Europe/Berlin:20251011T190000
DTEND;TZID=Europe/Berlin:20251011T210000
DTSTAMP:20260421T102337
CREATED:20250818T080509Z
LAST-MODIFIED:20250818T132310Z
UID:10000861-1760209200-1760216400@bruessowerland.de
SUMMARY:Lesung: "Drei ostdeutsche Frauen betrinken sich und gründen den idealen Staat"
DESCRIPTION:Drei Freundinnen\, ein Küchentisch\, vor den Fenstern die Nacht: Annett Gröschner\, Peggy Mädler und Wenke Seemann reden. Über sich als „Ostfrauen“\, was auch immer diese Schublade bedeutet\, über das Glück krummer Lebensläufe\, über die Gegenwart mit ihrer sich ständig reindrängelnden Vergangenheit. Es wird getrunken\, gelacht und gerungen\, es geht um Erinnerungsfetzen und Widersprüche\, um die Vielschichtigkeit von Prägungen und um mit den Jahren fremd gewordene Ideale. Im japanischen Volksglauben gibt es Geister\, die aus achtlos weggeworfenen Dingen geboren werden – „wie sähe der Dinggeist der DDR aus?“\, fragen die drei. Ihr Buch ist dem Erinnern und dem Sich-neu-Erfinden gegenüber so gewitzt und warmherzig\, wie es jede große Gesellschaftsdiskussion verdient. \nUnd da das Thema und der Leseabend zum Weiterquatschen einlädt\, lädt der Q-Dorf e.V. tags darauf nochmals ein: Am 12.10. um 11 Uhr findet ein Erzählcafé zum Thema „Ostfrauen“ zusammen mit den Autorinnen statt.
URL:https://bruessowerland.de/events/lesung-drei-ostdeutsche-frauen-betrinken-sich-und-gruenden-den-idealen-staat/
LOCATION:Schloss Rothenklempenow\, Schlossstraße 2\, Rothenklempenow\, Mecklenburg-Vorpommern\, 17321\, Deutschland
CATEGORIES:Vortrag & Mitreden
ATTACH;FMTTYPE=image/jpeg:https://bruessowerland.de/wp-content/uploads/2025/08/ARTK_INS_9783446279841_0001-e1755504292345.jpg
ORGANIZER;CN="Q-Dorf e.V.":MAILTO:q.dorf.verein@gmail.com
END:VEVENT
BEGIN:VEVENT
DTSTART;TZID=Europe/Berlin:20250403T190000
DTEND;TZID=Europe/Berlin:20250403T210000
DTSTAMP:20260421T102337
CREATED:20250317T105153Z
LAST-MODIFIED:20250326T093125Z
UID:10000756-1743706800-1743714000@bruessowerland.de
SUMMARY:Filmvorführung "Der Springer von Pontresina" (1934)
DESCRIPTION:Ab 22.3. ist in der Torgalerie die Ausstellung über das Adelsgeschlecht der Eickstedts und ihr Wirken an der Randow zu sehen. Am 3. April zeigen wir im Schloss Rothenklempenow um 19 Uhr den Film „Der Springer von Pontresina“. Vivigenz von Eickstedt\, der letzte Graf von Rothenklempenow\, ist in dem 1934 gedrehten Streifen in der Hauptrolle zu erleben. Der Film wird von alten Filmrollen analog mit 35 mm Technik abgespielt! Die Eickstedt-Ausstellung ist an diesem Tag ab 17 Uhr geöffnet.
URL:https://bruessowerland.de/events/filmvorfuehrung-der-springer-von-pontresina-1934/
LOCATION:Schloss Rothenklempenow\, Schlossstraße 2\, Rothenklempenow\, Mecklenburg-Vorpommern\, 17321\, Deutschland
CATEGORIES:Ausstellung & Kunst,Kino & Hörspiel
ATTACH;FMTTYPE=image/jpeg:https://bruessowerland.de/wp-content/uploads/2025/03/Eickstedt-Film-297-x-420-mm-e1742208929132.jpg
ORGANIZER;CN="Q-Dorf e.V.":MAILTO:q.dorf.verein@gmail.com
END:VEVENT
BEGIN:VEVENT
DTSTART;TZID=Europe/Berlin:20250307T190000
DTEND;TZID=Europe/Berlin:20250307T190000
DTSTAMP:20260421T102337
CREATED:20250224T133626Z
LAST-MODIFIED:20250224T133626Z
UID:10000741-1741374000-1741374000@bruessowerland.de
SUMMARY:Lesung zum Frauentag - Schauspielerinnen lesen ihre Lieblingsautorinnen
DESCRIPTION:Die Schauspielerinnen Cordelia Wege und Wiebke Hansen lesen aus den Werken ihrer liebsten Autorinnen. Die Geschichten beleuchten das Leben in all seinen Facetten. Es erwartet Sie eine literarische Entdeckungsreise unter dem Motto: „Zwei Leserinnen von hier – 4 Autorinnen aus aller Welt“. \nGemeinsam einen besonderen literarischen Abend erleben! \nKarten kosten 12 € und können unter 0151 67555972 reserviert oder an der Abendkasse erworben werden. \nWeitere Informationen unter: www.q-dorf-verein.de und immer aktuell auf Facebook. \n 
URL:https://bruessowerland.de/events/lesung-zum-frauentag-schauspielerinnen-lesen-ihre-lieblingsautorinnen/
LOCATION:Schloss Rothenklempenow\, Schlossstraße 2\, Rothenklempenow\, Mecklenburg-Vorpommern\, 17321\, Deutschland
CATEGORIES:Bühne & Musik
ATTACH;FMTTYPE=image/jpeg:https://bruessowerland.de/wp-content/uploads/2025/02/Lesung-07.03.-Jansen-Wege-e1740404169729.jpg
ORGANIZER;CN="Q-Dorf e.V.":MAILTO:q.dorf.verein@gmail.com
END:VEVENT
BEGIN:VEVENT
DTSTART;TZID=Europe/Berlin:20241211T180000
DTEND;TZID=Europe/Berlin:20241211T200000
DTSTAMP:20260421T102337
CREATED:20241107T110831Z
LAST-MODIFIED:20241107T110831Z
UID:10000680-1733940000-1733947200@bruessowerland.de
SUMMARY:Hyphen – Lesung mit Luise Meier
DESCRIPTION:Entdecken Sie die faszinierende Welt von Luise Meier und ihrem aktuellen Roman „Hyphen“. In dieser Lesung nimmt uns die Autorin mit in eine nahe Zukunft\, in der ein mysteriöser Pilz die globale Energieversorgung zum Stillstand bringt. Doch anders als in den düsteren Science-Fiction-Streifen Hollywoods versinkt die Welt in „Hyphen“ nicht im Chaos und kämpft nicht jeder gegen jeden. Vielmehrlässt der Ausfall von Strom-\, Gas- und Benzinversorgung\, von Fernsehen\, Radio und Internet die Menschen zusammenrücken. Die neue solidarische Gemeinschaft\, die so entsteht\, wird nicht mehr von Egoismen und rücksichtslosen Gewinnstreben geprägt. Bemerkenswert ist\, dass die 1985 in der DDR geborene Schriftstellerin einen Großteil der Handlung in der Uecker-Randow-Region angesiedelt hat\, wo ihre Familie seit drei Jahrzehnten lebt. \nTickets 12 € | Vorbestellung unter: +4915167555972 | q.dorf.verein@gmail.com \n 
URL:https://bruessowerland.de/events/hyphen-lesung-mit-luise-meier/
LOCATION:Schloss Rothenklempenow\, Schlossstraße 2\, Rothenklempenow\, Mecklenburg-Vorpommern\, 17321\, Deutschland
CATEGORIES:Bühne & Musik,Vortrag & Mitreden
ATTACH;FMTTYPE=image/jpeg:https://bruessowerland.de/wp-content/uploads/2024/11/Ankuendigung-Luise-Meier.jpg
ORGANIZER;CN="Q-Dorf e.V.":MAILTO:q.dorf.verein@gmail.com
END:VEVENT
BEGIN:VEVENT
DTSTART;TZID=Europe/Berlin:20241127T180000
DTEND;TZID=Europe/Berlin:20241127T200000
DTSTAMP:20260421T102337
CREATED:20241107T110954Z
LAST-MODIFIED:20241107T110954Z
UID:10000679-1732730400-1732737600@bruessowerland.de
SUMMARY:Eine Reise zum Zauberberg – Lesung mit Norman Ohler
DESCRIPTION:Der preisgekrönte Schriftsteller Norman Ohler list am 27. November 2024 um 18 Uhr im Schloss Rothenklempenow aus seinem neuesten Buch „Der Zauberberg\, die ganze Geschichte“. \nNorman Ohler\, in Berlin und Pampow zu Hause\, hat sich mit seinen Romanen und Sachbüchern\, darunter der internationale Bestseller „Der totale Rausch“\, einen Namen gemacht. Sein Werk wurde vielfach ausgezeichnet\, in über 30 Sprachen übersetzt. \nAnlässlich des hundertjährigen Jubiläums von Thomas Manns Meisterwerk „DerZauberberg“ entführt Ohler die Zuhörer auf eine spannende und humorvolle Reisein das winterliche Davos. Mit vielen Details erzählt Ohler wie Davos zum Tuberkulose-Kurortwurde und sich im Laufe der Zeit zu einem der mondänsten Ski-Tourismuszentrender Alpen entwickelte. Diesen Wandel vom bescheidenen Bergdorf zum Symbol für globalen Reichtum beleuchtet der Autor auf vergnügliche und nachdenklich Weise zugleich. \nTickets 12 € | Vorbestellung unter: +4915167555972 | q.dorf.verein@gmail.com \nEine Veranstaltung des Q-Dorf e.V.
URL:https://bruessowerland.de/events/eine-reise-zum-zauberberg-lesung-mit-norman-ohler/
LOCATION:Schloss Rothenklempenow\, Schlossstraße 2\, Rothenklempenow\, Mecklenburg-Vorpommern\, 17321\, Deutschland
CATEGORIES:Bühne & Musik,Vortrag & Mitreden
ORGANIZER;CN="Q-Dorf e.V.":MAILTO:q.dorf.verein@gmail.com
END:VEVENT
BEGIN:VEVENT
DTSTART;TZID=Europe/Berlin:20241029T180000
DTEND;TZID=Europe/Berlin:20241029T200000
DTSTAMP:20260421T102337
CREATED:20241022T065011Z
LAST-MODIFIED:20241022T065011Z
UID:10000673-1730224800-1730232000@bruessowerland.de
SUMMARY:Heimat-Filmabend "Siegfried Göbel\, Jahrgang 1935"
DESCRIPTION:In der Reihe „Lebensläufe“ zeigt der Q-Dorf e.V. in Zusammenarbeit mit dem BBF-Rothenklempenow e.V. den Film „Siegfried Göbel\, Jahrgang 1935“. Es gibt nur wenige Menschen\, die so anschaulich und lebendig über die Uecker-Randow-Region erzählen können wie Siegfried Göbel. 1960 kam Göbel als junger Diplom-Landwirt nach Rossow und arbeitete die nächsten drei Jahrzehnte in verschiedenen Funktionen in den Dörfern der Region\, zuletzt als Leiter des Volkseigenen Gutes Borken. \nVor der Kamera berichtet er von den dramatischen Geschehnissen während der Zwangskollektivierung\, von den Mühen beim Aufbau einer funktionierenden DDR-Landwirtschaft\, von den Herausforderungen des Katastrophenwinters 1978/79 oder seinen Anstrengungen\, das Gut Borken unter den Bedingungen der DDR-Plan- und Mangelwirtschaft erfolgreich zu führen. Kaum weniger spannend sind die Einblicke\, die uns der fast Neunzigjährige auf seinen persönlichen Werdegang gewährt: von seiner Kindheit in einer schlesischen Bauernfamilie\, von der beschwerlichen Flucht vor der heranrückenden Roten Armee und von seiner konfliktreichen Schul- und Studienzeit in Wittenberg und Halle.  \nSo ist eine ehrliche und keineswegs nostalgische Rückschau auf ein bewegtes Leben entstanden\, die uns in unaufgeregter Weise und mit einfachsten filmischen Mitteln das Fühlen und Denken dieser Generation Ostdeutscher näherbringt. Siegfired Göbel wird bei der Filmvorstellung anwesend sein.  \nHeimatfilmabend im Schloss Rothenklempenow\n29. Oktober 2024\, 18 Uhr\nBürgersaal\, Schlossstraße 2\nEintritt frei (Plätze begrenzt!)
URL:https://bruessowerland.de/events/heimat-filmabend-siegfried-goebel-jahrgang-1935/
LOCATION:Schloss Rothenklempenow\, Schlossstraße 2\, Rothenklempenow\, Mecklenburg-Vorpommern\, 17321\, Deutschland
CATEGORIES:Kino & Hörspiel,Vortrag & Mitreden
ORGANIZER;CN="Q-Dorf e.V.":MAILTO:q.dorf.verein@gmail.com
END:VEVENT
BEGIN:VEVENT
DTSTART;TZID=Europe/Berlin:20240425T190000
DTEND;TZID=Europe/Berlin:20240425T210000
DTSTAMP:20260421T102337
CREATED:20240325T085937Z
LAST-MODIFIED:20240415T165908Z
UID:10000408-1714071600-1714078800@bruessowerland.de
SUMMARY:Lesung: Eine Schwedin im Randowtal
DESCRIPTION:Cordelia Wege liest aus den Kriegserinnerungen der Majlis von Eickstedt-Peterswaldt „Eine Schwedin im Randowtal“ \nGerade erst war die Schauspielerin Cordelia Wege im Kieler Tatort an der Seite von Kommissar Borowski zu sehen\, nun gibt sie der letzten Gräfin von Rothenklempenow eine Stimme.\nCordelia Wege liest aus den Erinnerungen der Majlis von Eickstedt-Peterswaldt.\nDie 19jährige Schwedin Majlis Lüning kommt 1938 nach Deutschland\, um in den Filmstudios der UFA als Schauspielerin zu arbeiten. Gleich nach ihrer Ankunft trifft sie in Berlin auf den 15 Jahre älteren Vivigenz von Eickstedt-Peterwaldt. Der hochgewachsene Graf besitzt nicht nur in Hohenholz und Rothenklempenow Ländereien\, sondern steht seit Anfang der 1930er Jahre auch als Schauspieler vor der Kamera. Der ausgebildete Flieger und die junge Schwedin werden ein Paar und treten gleich nach Ausbruch des Krieges im Herbst 1939 vor den Traualtar. Während sich Vivigenz als Jagdflieger der Luftwaffe am Angriffskrieg der Nazis beteiligen muss\, versucht Majlis im pommerschen Hohenholz\, ihre neue Rolle als Gräfin und Gutsbesitzerin auszufüllen. Auf welche Widrigkeiten und Herausforderungen sie dabei trifft\, schildert die Schwedin anschaulich in ihrem 1945 in Stockholm erschienenen Erinnerungsbuch. Unter dem Titel „Eine Schwedin im Randowtal“ erschien das Buch 2020 erstmals in deutscher Sprache.\nCordelia Wege liest aus den Kriegserinnerungen der Majlis von Eickstedt-Peterswaldt „Eine Schwedin im Randowtal“.\n25. April\, 19 Uhr\, Bürgersaal Rothenklempenow\nKartenbestellung unter: 0151 67555972 (12€)
URL:https://bruessowerland.de/events/lesung-eine-schwedin-im-randowtal/
LOCATION:Schloss Rothenklempenow\, Schlossstraße 2\, Rothenklempenow\, Mecklenburg-Vorpommern\, 17321\, Deutschland
CATEGORIES:Bühne & Musik
ORGANIZER;CN="Q-Dorf e.V.":MAILTO:q.dorf.verein@gmail.com
END:VEVENT
BEGIN:VEVENT
DTSTART;TZID=Europe/Berlin:20240404T190000
DTEND;TZID=Europe/Berlin:20240404T210000
DTSTAMP:20260421T102337
CREATED:20240208T102801Z
LAST-MODIFIED:20240325T090345Z
UID:10000354-1712257200-1712264400@bruessowerland.de
SUMMARY:Lesung mit Filmausschnitten: "Eine Puppe packt aus" von Klaus Thaler
DESCRIPTION:Jonas Biermann Soubeyrand liest aus Klaus Thalers Debut „Eine Puppe packt aus“. Der Künstler und Puppenspieler  erzählt in seinem „Dokumentarroman“ unter anderem von wilden Zeiten im Ost-Berlin der besetzten Wohnungen. Im Anschluss Publikumsgespräch mit dem Autor. \nKartenreservierungen unter: 0176 34 241533
URL:https://bruessowerland.de/events/lesung-mit-filmausschnitten-eine-puppe-packt-aus-von-klaus-thaler/
LOCATION:Schloss Rothenklempenow\, Schlossstraße 2\, Rothenklempenow\, Mecklenburg-Vorpommern\, 17321\, Deutschland
CATEGORIES:Bühne & Musik
ORGANIZER;CN="Q-Dorf e.V.":MAILTO:q.dorf.verein@gmail.com
END:VEVENT
BEGIN:VEVENT
DTSTART;TZID=Europe/Berlin:20240201T190000
DTEND;TZID=Europe/Berlin:20240201T210000
DTSTAMP:20260421T102337
CREATED:20231211T160246Z
LAST-MODIFIED:20231211T161002Z
UID:10000330-1706814000-1706821200@bruessowerland.de
SUMMARY:Lesung mit Stefan Schwarz und Jakob Hein
DESCRIPTION:Zwei der lustigsten Schriftsteller Ostdeutschlands\, Jakob Hein und Stefan Schwarz\, stehen erstmals zusammen auf einer Bühne. Im Schloss Rothenklempenow lesen sie am 1. Februar 2024 aus ihren brandneuen Büchern. Aberwitzige Alltagsgeschichten für Jedermann und Jedefrau. Was sie schon immer über Hauskatzen\, Sex\, Bandscheiben und andere Vorfälle wissen wollten. Mit ihrer unterhaltsamen Lese-Show begeistern Hein und Schwarz republikweit das Publikum. Die Lesung am 01.02.2024 beginnt um 19.00 Uhr (Schlossstraße 2\, 17321 Rothenklempenow) und wird vom Kulturverein Q-Dorf e.V. veranstaltet. Karten können reserviert werden unter Tel: 0151 67555972. Kartenpreis: 12\,-€
URL:https://bruessowerland.de/events/lesung-mit-stefan-schwarz-und-jakob-hein/
LOCATION:Schloss Rothenklempenow\, Schlossstraße 2\, Rothenklempenow\, Mecklenburg-Vorpommern\, 17321\, Deutschland
CATEGORIES:Bühne & Musik
ORGANIZER;CN="Q-Dorf e.V.":MAILTO:q.dorf.verein@gmail.com
END:VEVENT
BEGIN:VEVENT
DTSTART;TZID=Europe/Berlin:20230929T190000
DTEND;TZID=Europe/Berlin:20230929T190000
DTSTAMP:20260421T102337
CREATED:20230921T071550Z
LAST-MODIFIED:20230921T071550Z
UID:10000309-1696014000-1696014000@bruessowerland.de
SUMMARY:„Von Wassern\, Wünschen und Wölfen“ – Musikalisch-literarischer Abend
DESCRIPTION:Veranstaltung im Rahmen der Nachhaltigskeitswoche \nWas macht unsere Beziehung zur Landschaft aus? Welche Erfahrungen und Sehnsüchte weben wir in unser Erleben mit ein? Was siehst du\, was andere nicht sehen können? Wie sprechen wir über unsere Landschaften? Uta Berghöfer (Sprache)\, Lars Grünwoldt (Gesang) und Tobias Rank (Piano) laden ein zu einem nachdenklich-poetischen Abend mit Liedern und Texten\, die sie gefunden\, nach Gesprächen mit verschiedenen Menschen in den Landschaften Vorpommerns entwickelt\, verfasst und komponiert haben. \nPremiere Donnerstag 28.9.2023 im Schloss in Rothenklempenow
URL:https://bruessowerland.de/events/von-wassern-wuenschen-und-woelfen-musikalisch-literarischer-abend/
LOCATION:Schloss Rothenklempenow\, Schlossstraße 2\, Rothenklempenow\, Mecklenburg-Vorpommern\, 17321\, Deutschland
CATEGORIES:Bühne & Musik
ORGANIZER;CN="RCE Stettiner Haff":MAILTO:dialog@rce-stettinerhaff.eu
END:VEVENT
BEGIN:VEVENT
DTSTART;TZID=Europe/Berlin:20230617T160000
DTEND;TZID=Europe/Berlin:20230617T170000
DTSTAMP:20260421T102337
CREATED:20230530T155924Z
LAST-MODIFIED:20230617T105255Z
UID:10000017-1687017600-1687021200@bruessowerland.de
SUMMARY:Chor Horyzont singt beim Barockfest
DESCRIPTION:der deutsch-polnische Chor aus dem Kultrhaus-Kino-Brüssow ist mit einem Konzert Teil des Barockfests Rothenklempenow
URL:https://bruessowerland.de/events/chorkonzert/
LOCATION:Schloss Rothenklempenow\, Schlossstraße 2\, Rothenklempenow\, Mecklenburg-Vorpommern\, 17321\, Deutschland
CATEGORIES:Bühne & Musik
END:VEVENT
BEGIN:VEVENT
DTSTART;TZID=Europe/Berlin:20230617T140000
DTEND;TZID=Europe/Berlin:20230617T235900
DTSTAMP:20260421T102337
CREATED:20230530T155720Z
LAST-MODIFIED:20230617T105350Z
UID:10000016-1687010400-1687046340@bruessowerland.de
SUMMARY:Barockfest Rothenklempenow
DESCRIPTION:Die Gemeinde Rothenklempenow richtet ein buntes Barockfest aus. Anlass ist die Wiederaufführung einer um 1740 vom Italiener Antonio Paganelli dem Baron von Rothenklempow gewidmeten Kompositionen. Das Orchester für Alte Musik Vorpommern hat die galanten Tanzstücke einstudiert und wird sie gemeinsam mit der renommierten Berliner Puppenspielerin Suse Wächter als komödiantische Musik-Theater-Performance (AT „Paganelli in Pommern) zur Aufführung bringen. Gerahmt wird das Ganze von einem großen Spektakel im Rothenklempenower Schlosspark. Unter anderem mit: Klausthaler Puppenbühne\, Chor Horyzont\, Kinderprogramm\, Italo-Pop\, Feuerwerk
URL:https://bruessowerland.de/events/barockfest-rothenklempenow/
LOCATION:Schloss Rothenklempenow\, Schlossstraße 2\, Rothenklempenow\, Mecklenburg-Vorpommern\, 17321\, Deutschland
CATEGORIES:Bühne & Musik,Fest & Markt
END:VEVENT
END:VCALENDAR