BEGIN:VCALENDAR
VERSION:2.0
PRODID:-//Veranstaltungen Brüssower Land - ECPv6.15.20//NONSGML v1.0//EN
CALSCALE:GREGORIAN
METHOD:PUBLISH
X-WR-CALNAME:Veranstaltungen Brüssower Land
X-ORIGINAL-URL:https://bruessowerland.de
X-WR-CALDESC:Veranstaltungen für Veranstaltungen Brüssower Land
REFRESH-INTERVAL;VALUE=DURATION:PT1H
X-Robots-Tag:noindex
X-PUBLISHED-TTL:PT1H
BEGIN:VTIMEZONE
TZID:Europe/Berlin
BEGIN:DAYLIGHT
TZOFFSETFROM:+0100
TZOFFSETTO:+0200
TZNAME:CEST
DTSTART:20230326T010000
END:DAYLIGHT
BEGIN:STANDARD
TZOFFSETFROM:+0200
TZOFFSETTO:+0100
TZNAME:CET
DTSTART:20231029T010000
END:STANDARD
BEGIN:DAYLIGHT
TZOFFSETFROM:+0100
TZOFFSETTO:+0200
TZNAME:CEST
DTSTART:20240331T010000
END:DAYLIGHT
BEGIN:STANDARD
TZOFFSETFROM:+0200
TZOFFSETTO:+0100
TZNAME:CET
DTSTART:20241027T010000
END:STANDARD
BEGIN:DAYLIGHT
TZOFFSETFROM:+0100
TZOFFSETTO:+0200
TZNAME:CEST
DTSTART:20250330T010000
END:DAYLIGHT
BEGIN:STANDARD
TZOFFSETFROM:+0200
TZOFFSETTO:+0100
TZNAME:CET
DTSTART:20251026T010000
END:STANDARD
BEGIN:DAYLIGHT
TZOFFSETFROM:+0100
TZOFFSETTO:+0200
TZNAME:CEST
DTSTART:20260329T010000
END:DAYLIGHT
BEGIN:STANDARD
TZOFFSETFROM:+0200
TZOFFSETTO:+0100
TZNAME:CET
DTSTART:20261025T010000
END:STANDARD
END:VTIMEZONE
BEGIN:VEVENT
DTSTART;TZID=Europe/Berlin:20250706T160000
DTEND;TZID=Europe/Berlin:20250706T210000
DTSTAMP:20260421T172746
CREATED:20250702T120824Z
LAST-MODIFIED:20250702T120824Z
UID:10000838-1751817600-1751835600@bruessowerland.de
SUMMARY:Sommerfest Q-Dorf e.V. mit Kulturprogramm
DESCRIPTION:Das verspricht ein sommerlichen Sonntag mit großartigem Kulturprogramm in Rothenklempenow zu werden. Im Schlosspark können wir im Anschluss an Puppenspiel mit und über Wiener Klassik und Jan Pappelbaums fotografischen Eindrücken von Land/Arbeit in der Uckermark bei Snacks und kühlen Getränken gemeinsam der Sonne (hoffentlich!) beim Untergehen zugucken und den Tag ausklingen lassen. \nZum Programm: \n16:00 Uhr | Dorfkirche Rothenklempenow\n„Max Dietz mochte Paul Wranitzky nicht oder Dr. Freud erklärt die Wiener Klassik“\nEin außergewöhnliches kammermusikalisches Puppenspiel mit der Puppenspielerin Suse Wächter und dem Aurum-Ensemble Berlin – voller Witz\, Wissen und Musik aus der Wiener Klassik.\nEintritt frei – Spenden willkommen \nab ca. 17:30 Uhr | Torgalerie\nVernissage „Land/Arbeit“ – Fotografien von Jan Pappelbaum\nEinfühlsame Porträts über das Verhältnis von Arbeit und Identität im ländlichen Raum. Die Bilder entstanden in den Dörfern der Uckermark und geben seltene Einblicke in Lebensrealitäten zwischen Handwerk\, Landwirtschaft und gesellschaftlichem Wandel.
URL:https://bruessowerland.de/events/sommerfest-q-dorf-e-v-mit-kulturprogramm/
LOCATION:Kirche Rothenklempenow\, Schlossstraße 1\, 17321 Rothenklempenow\, Rothenklempenow\, MV\, 17321\, Deutschland
CATEGORIES:Ausstellung & Kunst,Bühne & Musik,Fest & Markt
ATTACH;FMTTYPE=image/jpeg:https://bruessowerland.de/wp-content/uploads/2025/07/Plakat-Sommerfest-6.07-e1751458066460.jpeg
ORGANIZER;CN="Q-Dorf e.V.":MAILTO:q.dorf.verein@gmail.com
END:VEVENT
BEGIN:VEVENT
DTSTART;TZID=Europe/Berlin:20250411T190000
DTEND;TZID=Europe/Berlin:20250411T203000
DTSTAMP:20260421T172746
CREATED:20250317T110025Z
LAST-MODIFIED:20250326T131419Z
UID:10000759-1744398000-1744403400@bruessowerland.de
SUMMARY:Konzert "Bach Goldberg Variationen"
DESCRIPTION:Konzertankündigung 🎻✨ \nAm Freitag\, den 11. April um 17 Uhr lädt Grenzland e.V. zu einem besonderen musikalischen Erlebnis in die Kirche Rothenklempenow ein. Das renommierte Baltic Neopolis Orchestra präsentiert ein Streicher-Trio\, das Johann Sebastian Bachs berühmte Goldberg-Variationen zum Klingen bringt. \nEin Abend voller virtuoser Klänge in einzigartiger Atmosphäre – kommt vorbei und genießt die Musik! 🎶 \n📍 Kirche Rothenklempenow\n 📅 Freitag\, 11. April\n 🕔 17:00 Uhr\n 🎟 Eintritt gegen Spende \nWir freuen uns auf euch!
URL:https://bruessowerland.de/events/konzert-bach-goldberg-variationen/
LOCATION:Kirche Rothenklempenow\, Schlossstraße 1\, 17321 Rothenklempenow\, Rothenklempenow\, MV\, 17321\, Deutschland
CATEGORIES:Bühne & Musik
ATTACH;FMTTYPE=image/jpeg:https://bruessowerland.de/wp-content/uploads/2025/03/Baltic-Neopolis-Orchestra-e1742209213775.jpeg
ORGANIZER;CN="Q-Dorf e.V.":MAILTO:q.dorf.verein@gmail.com
END:VEVENT
BEGIN:VEVENT
DTSTART;TZID=Europe/Berlin:20240623T160000
DTEND;TZID=Europe/Berlin:20240623T170000
DTSTAMP:20260421T172746
CREATED:20240526T080659Z
LAST-MODIFIED:20240526T080659Z
UID:10000441-1719158400-1719162000@bruessowerland.de
SUMMARY:Konzertreihe DorfKircheKlingt – Franz Schubert „Winterreise“
DESCRIPTION:Franz Schubert „Winterreise“ \nDer berühmte Liederzyklus von Franz Schubert wurde eigens für dieses Programm vom Oboisten Eduard Wesly für Streichtrio und Englischhorn bearbeitet. Freuen Sie sich auf romantisches Liedgut mit besonderer klanglicher Note! \nFlorian Götz (Bariton) / Eduard Wesly (Englischhorn) / Ulrike Titze (Violine) / Bettina Ihrig (Viola) / Ulrike Becker (Violoncello) \nMehr Informationen zum Programm: https://www.grundmann-quartett.de/programme \nFranz Schubert „Podróż zimowa” \nSłynny cykl pieśni Franza Schuberta został specjalnie zaaran- żowany na potrzeby tego programu przez oboistę Eduarda Wesly’ego na trio smyczkowe i róg angielski. Czekaj na ro- mantyczne piosenki ze specjalną nutą dźwiękową! \nFlorian Götz (baryton) / Eduard Wesly (róg angielski) / Ulrike Titze (skrzypce) / Bettina Ihrig (altówka) / Ulrike Becker (wiolonczela) \nWięcej informacji o programie: https://www.grundmann-quartett.de/programme
URL:https://bruessowerland.de/events/konzertreihe-dorfkircheklingt-franz-schubert-winterreise/
LOCATION:Kirche Rothenklempenow\, Schlossstraße 1\, 17321 Rothenklempenow\, Rothenklempenow\, MV\, 17321\, Deutschland
CATEGORIES:Bühne & Musik
ORGANIZER;CN="Q-Dorf e.V.":MAILTO:q.dorf.verein@gmail.com
END:VEVENT
END:VCALENDAR