BEGIN:VCALENDAR
VERSION:2.0
PRODID:-//Veranstaltungen Brüssower Land - ECPv6.15.20//NONSGML v1.0//EN
CALSCALE:GREGORIAN
METHOD:PUBLISH
X-WR-CALNAME:Veranstaltungen Brüssower Land
X-ORIGINAL-URL:https://bruessowerland.de
X-WR-CALDESC:Veranstaltungen für Veranstaltungen Brüssower Land
REFRESH-INTERVAL;VALUE=DURATION:PT1H
X-Robots-Tag:noindex
X-PUBLISHED-TTL:PT1H
BEGIN:VTIMEZONE
TZID:Europe/Berlin
BEGIN:DAYLIGHT
TZOFFSETFROM:+0100
TZOFFSETTO:+0200
TZNAME:CEST
DTSTART:20230326T010000
END:DAYLIGHT
BEGIN:STANDARD
TZOFFSETFROM:+0200
TZOFFSETTO:+0100
TZNAME:CET
DTSTART:20231029T010000
END:STANDARD
BEGIN:DAYLIGHT
TZOFFSETFROM:+0100
TZOFFSETTO:+0200
TZNAME:CEST
DTSTART:20240331T010000
END:DAYLIGHT
BEGIN:STANDARD
TZOFFSETFROM:+0200
TZOFFSETTO:+0100
TZNAME:CET
DTSTART:20241027T010000
END:STANDARD
BEGIN:DAYLIGHT
TZOFFSETFROM:+0100
TZOFFSETTO:+0200
TZNAME:CEST
DTSTART:20250330T010000
END:DAYLIGHT
BEGIN:STANDARD
TZOFFSETFROM:+0200
TZOFFSETTO:+0100
TZNAME:CET
DTSTART:20251026T010000
END:STANDARD
END:VTIMEZONE
BEGIN:VEVENT
DTSTART;TZID=Europe/Berlin:20240720T150000
DTEND;TZID=Europe/Berlin:20240720T170000
DTSTAMP:20260421T143452
CREATED:20240630T134623Z
LAST-MODIFIED:20240630T134929Z
UID:10000561-1721487600-1721494800@bruessowerland.de
SUMMARY:Theater: Bei der Feuerwehr wird der Kaffee kalt
DESCRIPTION:Gastspiel der Uckermärkischen BÜhnen Schwedt in Menkin\nTheaterstück für Menschen ab 4 Jahren.\nLöschmeister Wasserhose und seine Kollegen wollen gerade eine wohlverdiente\nPause machen und gemütlich ihren Kaffee trinken\, da klingelt das Telefon: Bei\nOma Eierschecke brennt es! Natürlich ist die Feuerwehr sofort zur Stelle. Zum Glück\nkönnen die tapferen Feuerwehrleute gemeinsam das Schlimmste verhindern und\ndas Feuer löschen. Aber kaum sitzen sie wieder in der Feuerwache und holen ihre\nKaffeetassen raus\, ruft das Telefon schon zum nächsten Einsatz: Herr Kazzers Katze\nist in einen Brunnen gefallen. Also geht es für Löschmeister Wasserhose und sein\nTeam wieder los! Und der Kaffee? Der wird immer kälter …
URL:https://bruessowerland.de/events/theater-bei-der-feuerwehr-wird-der-kaffee-kalt/
LOCATION:Menkin Park mit Freilichtbühne\, Hofstraße\, Menkin (Brüssow)\, Brandenburg\, 17326\, Deutschland
CATEGORIES:Bühne & Musik
GEO:53.415250040733;14.199205765117
X-APPLE-STRUCTURED-LOCATION;VALUE=URI;X-ADDRESS=Menkin Park mit Freilichtbühne Hofstraße Menkin (Brüssow) Brandenburg 17326 Deutschland;X-APPLE-RADIUS=500;X-TITLE=Hofstraße:geo:14.199205765117,53.415250040733
END:VEVENT
END:VCALENDAR