BEGIN:VCALENDAR
VERSION:2.0
PRODID:-//Veranstaltungen Brüssower Land - ECPv6.15.20//NONSGML v1.0//EN
CALSCALE:GREGORIAN
METHOD:PUBLISH
X-ORIGINAL-URL:https://bruessowerland.de
X-WR-CALDESC:Veranstaltungen für Veranstaltungen Brüssower Land
REFRESH-INTERVAL;VALUE=DURATION:PT1H
X-Robots-Tag:noindex
X-PUBLISHED-TTL:PT1H
BEGIN:VTIMEZONE
TZID:Europe/Berlin
BEGIN:DAYLIGHT
TZOFFSETFROM:+0100
TZOFFSETTO:+0200
TZNAME:CEST
DTSTART:20240331T010000
END:DAYLIGHT
BEGIN:STANDARD
TZOFFSETFROM:+0200
TZOFFSETTO:+0100
TZNAME:CET
DTSTART:20241027T010000
END:STANDARD
BEGIN:DAYLIGHT
TZOFFSETFROM:+0100
TZOFFSETTO:+0200
TZNAME:CEST
DTSTART:20250330T010000
END:DAYLIGHT
BEGIN:STANDARD
TZOFFSETFROM:+0200
TZOFFSETTO:+0100
TZNAME:CET
DTSTART:20251026T010000
END:STANDARD
BEGIN:DAYLIGHT
TZOFFSETFROM:+0100
TZOFFSETTO:+0200
TZNAME:CEST
DTSTART:20260329T010000
END:DAYLIGHT
BEGIN:STANDARD
TZOFFSETFROM:+0200
TZOFFSETTO:+0100
TZNAME:CET
DTSTART:20261025T010000
END:STANDARD
END:VTIMEZONE
BEGIN:VEVENT
DTSTART;VALUE=DATE:20250414
DTEND;VALUE=DATE:20250415
DTSTAMP:20260425T195223
CREATED:20250122T134554Z
LAST-MODIFIED:20250203T112721Z
UID:10000723-1744588800-1744675199@bruessowerland.de
SUMMARY:Ferienworkshop Tanz für Kinder ab 6
DESCRIPTION:Vom 14.- 19. April bieten die „Tänzerinnen ohne Grenzen“ wieder einen Ferienworkshop Tanz und Theater an. „Nur Mut“ ist diesmal das Motto. Der Workshop richtet sich an Kinder ab 6 Jahren.\nOrt ist die Schule in Wallmow.\n„Schnuppertermine“ zum Kennenlernen und Ausprobieren sind am 3.4. in der Grundschule Brüssow (vormittags) und am 4.4. in der Dorfschule Wallmow (nachmittags)\nDer Kurs ist kostenfrei. Anmeldungen sind nötig und möglich unter: anjaschaplitz@gmail.com  oder 0152 564 78491
URL:https://bruessowerland.de/events/ferienworkshop-tanz-fuer-kinder-ab-6/
LOCATION:Dorfschule Wallmow\, Wallmow 6\, Carmzow-Wallmow\, Brandenburg\, 17291
CATEGORIES:Kurs & Workshop
ATTACH;FMTTYPE=image/jpeg:https://bruessowerland.de/wp-content/uploads/2025/01/2025-04_Flyer-ChaTa-2025-e1737552869624.jpg
ORGANIZER;CN="Zuckermark e.V.":MAILTO:kontakt@zuckermark.de
END:VEVENT
END:VCALENDAR