BEGIN:VCALENDAR
VERSION:2.0
PRODID:-//Veranstaltungen Brüssower Land - ECPv6.15.20//NONSGML v1.0//EN
CALSCALE:GREGORIAN
METHOD:PUBLISH
X-ORIGINAL-URL:https://bruessowerland.de
X-WR-CALDESC:Veranstaltungen für Veranstaltungen Brüssower Land
REFRESH-INTERVAL;VALUE=DURATION:PT1H
X-Robots-Tag:noindex
X-PUBLISHED-TTL:PT1H
BEGIN:VTIMEZONE
TZID:Europe/Berlin
BEGIN:DAYLIGHT
TZOFFSETFROM:+0100
TZOFFSETTO:+0200
TZNAME:CEST
DTSTART:20220327T010000
END:DAYLIGHT
BEGIN:STANDARD
TZOFFSETFROM:+0200
TZOFFSETTO:+0100
TZNAME:CET
DTSTART:20221030T010000
END:STANDARD
BEGIN:DAYLIGHT
TZOFFSETFROM:+0100
TZOFFSETTO:+0200
TZNAME:CEST
DTSTART:20230326T010000
END:DAYLIGHT
BEGIN:STANDARD
TZOFFSETFROM:+0200
TZOFFSETTO:+0100
TZNAME:CET
DTSTART:20231029T010000
END:STANDARD
BEGIN:DAYLIGHT
TZOFFSETFROM:+0100
TZOFFSETTO:+0200
TZNAME:CEST
DTSTART:20240331T010000
END:DAYLIGHT
BEGIN:STANDARD
TZOFFSETFROM:+0200
TZOFFSETTO:+0100
TZNAME:CET
DTSTART:20241027T010000
END:STANDARD
BEGIN:DAYLIGHT
TZOFFSETFROM:+0100
TZOFFSETTO:+0200
TZNAME:CEST
DTSTART:20250330T010000
END:DAYLIGHT
BEGIN:STANDARD
TZOFFSETFROM:+0200
TZOFFSETTO:+0100
TZNAME:CET
DTSTART:20251026T010000
END:STANDARD
BEGIN:DAYLIGHT
TZOFFSETFROM:+0100
TZOFFSETTO:+0200
TZNAME:CEST
DTSTART:20260329T010000
END:DAYLIGHT
BEGIN:STANDARD
TZOFFSETFROM:+0200
TZOFFSETTO:+0100
TZNAME:CET
DTSTART:20261025T010000
END:STANDARD
END:VTIMEZONE
BEGIN:VEVENT
DTSTART;TZID=Europe/Berlin:20250712T100000
DTEND;TZID=Europe/Berlin:20250713T180000
DTSTAMP:20260421T114949
CREATED:20250709T181811Z
LAST-MODIFIED:20250709T181811Z
UID:10000840-1752314400-1752429600@bruessowerland.de
SUMMARY:Lavendel Erntefest in Grimme
DESCRIPTION:Lavendel Erntefest 2025\nAuf dem landschaftlich schön gelegenen Lavendelfeld in Grimme kann man bei der Ernte helfen\, etwas essen und Produkte aus Lavendel und Regionale Produkte kaufen \n 
URL:https://bruessowerland.de/events/lavendel-erntefest-in-grimme/
LOCATION:Lavendelfeld Grimme\, Grimme\, Brüssow\, Brandenburg\, 17326\, Deutschland
CATEGORIES:Fest & Markt
ATTACH;FMTTYPE=image/jpeg:https://bruessowerland.de/wp-content/uploads/2025/07/Lavendel-Erntefest-2025-e1752085050331.jpg
GEO:53.424483164555;14.143275227347
X-APPLE-STRUCTURED-LOCATION;VALUE=URI;X-ADDRESS=Lavendelfeld Grimme Grimme Brüssow Brandenburg 17326 Deutschland;X-APPLE-RADIUS=500;X-TITLE=Grimme:geo:14.143275227347,53.424483164555
END:VEVENT
BEGIN:VEVENT
DTSTART;TZID=Europe/Berlin:20240707T080000
DTEND;TZID=Europe/Berlin:20240707T180000
DTSTAMP:20260421T114949
CREATED:20240630T190711Z
LAST-MODIFIED:20240630T192220Z
UID:10000565-1720339200-1720375200@bruessowerland.de
SUMMARY:Lavendelernte in Grimme
DESCRIPTION:12.000 Lavendelplfanzen und somit eins der größten Lavendelvorkommen Nordeuropas finden Sie in Grimme in der Uckermark – und wie jedes Jahr gibt es dass öffentliche Ernten. Nehmen Sie einen Hut und etwas Kleingeld für Spenden und Erfrischungen mit (Lavendeleis und Lavendellimonade) und genießen Sie den Duft und die wunderschöne Umgebung. Die Ernte findet auf Lavendelfeld Nr. 3 statt. (in Grimme ausgeschildert)\nGeerntet wird am Wochenende 6./7. und 13./14. Juli
URL:https://bruessowerland.de/events/lavendelerntefest/2024-07-07/
LOCATION:Lavendelfeld Grimme\, Grimme\, Brüssow\, Brandenburg\, 17326\, Deutschland
CATEGORIES:Aktion & Exkursion
ATTACH;FMTTYPE=image/jpeg:https://bruessowerland.de/wp-content/uploads/2024/06/lavendel-e1719775239298.jpg
GEO:53.424483164555;14.143275227347
X-APPLE-STRUCTURED-LOCATION;VALUE=URI;X-ADDRESS=Lavendelfeld Grimme Grimme Brüssow Brandenburg 17326 Deutschland;X-APPLE-RADIUS=500;X-TITLE=Grimme:geo:14.143275227347,53.424483164555
END:VEVENT
BEGIN:VEVENT
DTSTART;TZID=Europe/Berlin:20240706T100000
DTEND;TZID=Europe/Berlin:20240706T180000
DTSTAMP:20260421T114949
CREATED:20240630T190711Z
LAST-MODIFIED:20240630T192220Z
UID:10000564-1720260000-1720288800@bruessowerland.de
SUMMARY:Lavendelernte in Grimme
DESCRIPTION:12.000 Lavendelplfanzen und somit eins der größten Lavendelvorkommen Nordeuropas finden Sie in Grimme in der Uckermark – und wie jedes Jahr gibt es dass öffentliche Ernten. Nehmen Sie einen Hut und etwas Kleingeld für Spenden und Erfrischungen mit (Lavendeleis und Lavendellimonade) und genießen Sie den Duft und die wunderschöne Umgebung. Die Ernte findet auf Lavendelfeld Nr. 3 statt. (in Grimme ausgeschildert)\nGeerntet wird am Wochenende 6./7. und 13./14. Juli
URL:https://bruessowerland.de/events/lavendelerntefest/2024-07-06/
LOCATION:Lavendelfeld Grimme\, Grimme\, Brüssow\, Brandenburg\, 17326\, Deutschland
CATEGORIES:Aktion & Exkursion
ATTACH;FMTTYPE=image/jpeg:https://bruessowerland.de/wp-content/uploads/2024/06/lavendel-e1719775239298.jpg
GEO:53.424483164555;14.143275227347
X-APPLE-STRUCTURED-LOCATION;VALUE=URI;X-ADDRESS=Lavendelfeld Grimme Grimme Brüssow Brandenburg 17326 Deutschland;X-APPLE-RADIUS=500;X-TITLE=Grimme:geo:14.143275227347,53.424483164555
END:VEVENT
BEGIN:VEVENT
DTSTART;TZID=Europe/Berlin:20230805T143000
DTEND;TZID=Europe/Berlin:20230805T143000
DTSTAMP:20260421T114949
CREATED:20230724T144835Z
LAST-MODIFIED:20230726T173019Z
UID:10000250-1691245800-1691245800@bruessowerland.de
SUMMARY:Familienfest im Lavendelfeld
DESCRIPTION:Kooperatives Spielen\, Lavendel ernten\, Basteln mit Lavendel\, Pony-Fotoshooting\, frische Luft\, Spaß\, Kaffee&Kuchen
URL:https://bruessowerland.de/events/familienfest-im-lavendelfeld/
LOCATION:Lavendelfeld Grimme\, Grimme\, Brüssow\, Brandenburg\, 17326\, Deutschland
CATEGORIES:Aktion & Exkursion
GEO:53.424483164555;14.143275227347
X-APPLE-STRUCTURED-LOCATION;VALUE=URI;X-ADDRESS=Lavendelfeld Grimme Grimme Brüssow Brandenburg 17326 Deutschland;X-APPLE-RADIUS=500;X-TITLE=Grimme:geo:14.143275227347,53.424483164555
END:VEVENT
BEGIN:VEVENT
DTSTART;TZID=Europe/Berlin:20230708T100000
DTEND;TZID=Europe/Berlin:20230709T153000
DTSTAMP:20260421T114949
CREATED:20230617T103645Z
LAST-MODIFIED:20230617T103645Z
UID:10000039-1688810400-1688916600@bruessowerland.de
SUMMARY:Lavendel Erntefest
DESCRIPTION:Einmal im Jahr findet das Lavendelerntefest auf dem Feld in Grimme statt. Produkte zu speziellen Erntepreisen kaufen. Lavendleis\, Familiengerecht. Alles direkt auf dem  Lavendelfeld Nr.1 in Grimme bei 17326 Brüssow. \n 
URL:https://bruessowerland.de/events/lavendel-erntefest/
LOCATION:Lavendelfeld Grimme\, Grimme\, Brüssow\, Brandenburg\, 17326\, Deutschland
CATEGORIES:Aktion & Exkursion,Fest & Markt
ATTACH;FMTTYPE=image/jpeg:https://bruessowerland.de/wp-content/uploads/2023/06/Lavendel.jpg
GEO:53.424483164555;14.143275227347
X-APPLE-STRUCTURED-LOCATION;VALUE=URI;X-ADDRESS=Lavendelfeld Grimme Grimme Brüssow Brandenburg 17326 Deutschland;X-APPLE-RADIUS=500;X-TITLE=Grimme:geo:14.143275227347,53.424483164555
END:VEVENT
BEGIN:VEVENT
DTSTART;TZID=Europe/Berlin:20230624T140000
DTEND;TZID=Europe/Berlin:20230624T220000
DTSTAMP:20260421T114949
CREATED:20230617T104839Z
LAST-MODIFIED:20230617T105015Z
UID:10000040-1687615200-1687644000@bruessowerland.de
SUMMARY:Gesünder mit Lavendel - Festival und Konzert
DESCRIPTION:Gesundheitsfestival mit verschiedenen Workshops und abendlichem Konzert mit indischer Musik im Lavendelfeld
URL:https://bruessowerland.de/events/gesuender-mit-lavendel-festival/
LOCATION:Lavendelfeld Grimme\, Grimme\, Brüssow\, Brandenburg\, 17326\, Deutschland
CATEGORIES:Bühne & Musik,Kurs & Workshop
GEO:53.424483164555;14.143275227347
X-APPLE-STRUCTURED-LOCATION;VALUE=URI;X-ADDRESS=Lavendelfeld Grimme Grimme Brüssow Brandenburg 17326 Deutschland;X-APPLE-RADIUS=500;X-TITLE=Grimme:geo:14.143275227347,53.424483164555
END:VEVENT
END:VCALENDAR