BEGIN:VCALENDAR
VERSION:2.0
PRODID:-//Veranstaltungen Brüssower Land - ECPv6.15.20//NONSGML v1.0//EN
CALSCALE:GREGORIAN
METHOD:PUBLISH
X-ORIGINAL-URL:https://bruessowerland.de
X-WR-CALDESC:Veranstaltungen für Veranstaltungen Brüssower Land
REFRESH-INTERVAL;VALUE=DURATION:PT1H
X-Robots-Tag:noindex
X-PUBLISHED-TTL:PT1H
BEGIN:VTIMEZONE
TZID:Europe/Berlin
BEGIN:DAYLIGHT
TZOFFSETFROM:+0100
TZOFFSETTO:+0200
TZNAME:CEST
DTSTART:20220327T010000
END:DAYLIGHT
BEGIN:STANDARD
TZOFFSETFROM:+0200
TZOFFSETTO:+0100
TZNAME:CET
DTSTART:20221030T010000
END:STANDARD
BEGIN:DAYLIGHT
TZOFFSETFROM:+0100
TZOFFSETTO:+0200
TZNAME:CEST
DTSTART:20230326T010000
END:DAYLIGHT
BEGIN:STANDARD
TZOFFSETFROM:+0200
TZOFFSETTO:+0100
TZNAME:CET
DTSTART:20231029T010000
END:STANDARD
BEGIN:DAYLIGHT
TZOFFSETFROM:+0100
TZOFFSETTO:+0200
TZNAME:CEST
DTSTART:20240331T010000
END:DAYLIGHT
BEGIN:STANDARD
TZOFFSETFROM:+0200
TZOFFSETTO:+0100
TZNAME:CET
DTSTART:20241027T010000
END:STANDARD
BEGIN:DAYLIGHT
TZOFFSETFROM:+0100
TZOFFSETTO:+0200
TZNAME:CEST
DTSTART:20250330T010000
END:DAYLIGHT
BEGIN:STANDARD
TZOFFSETFROM:+0200
TZOFFSETTO:+0100
TZNAME:CET
DTSTART:20251026T010000
END:STANDARD
END:VTIMEZONE
BEGIN:VEVENT
DTSTART;TZID=Europe/Berlin:20240309T150000
DTEND;TZID=Europe/Berlin:20240309T170000
DTSTAMP:20260421T144049
CREATED:20240302T174249Z
LAST-MODIFIED:20240302T174249Z
UID:10000361-1709996400-1710003600@bruessowerland.de
SUMMARY:Vernissage der Künstlerresidenz in Boock
DESCRIPTION:Die Künstlerin Chris Strauss und die Aktiven der Dorfresidenz zeigen Ergebnisse aus der Graffiti- und Textildruckwerkstatt.  Am 09.03. um 15 Uhr laden sie und die Gemeinde Boock zur Vernissage im alten Küsterhaus (Lindenstraße 57\, 17322 Boock) ein.\nWir freuen uns auf Euer Kommen!\nBei Kaffee und Kuchen lassen wir die vergangenen Monate an uns vorbeiziehen und feiern den Abschluss des Projektes
URL:https://bruessowerland.de/events/vernissage-der-kuenstlerresidenz-in-boock/
LOCATION:Altes Küsterhaus\, Lindenstraße 57\, Boock\, Mecklenburg Vorpommern\, 17322
CATEGORIES:Ausstellung & Kunst,Vortrag & Mitreden
END:VEVENT
BEGIN:VEVENT
DTSTART;TZID=Europe/Berlin:20230921T160000
DTEND;TZID=Europe/Berlin:20230921T160000
DTSTAMP:20260421T144049
CREATED:20230819T110452Z
LAST-MODIFIED:20230905T124753Z
UID:10000261-1695312000-1695312000@bruessowerland.de
SUMMARY:dt-poln Exkursion: "Irgendwo dazwischen/Gdzieś pomiędzy"
DESCRIPTION:Irgendwo dazwischen. Eine Spurensuche in Pommern ist ein Projekt vieler engagierter Akteure und Menschen im grenzübergreifenden Pommern. Uns verbindet das Interesse an der Geschichte jener Orte\, die „irgendwo dazwischen“ im grenznahen und ländlichen Pommern liegen. Und die Geschichten ihrer früheren und heutigen Bewohner*innen. \nAm 21. September 2023 um 16 Uhr laden zeitlupe\, perspektywa\, Kulturlandbüro und der Verein Stowarzyszenie na Rzecz Rozwoju Sołectwa Dołuje-Koscino alle Interessierten nach Neu Grambow zu einem grenzübergreifenden Spaziergang nach Kościno ein.\nMit Euch gemeinsam wollen wir mit den Menschen in Kościno über den schwierigen Anfang des Örtchens nach 1945 im polnischen Pommern ins Gespräch kommen und zusammen auf Spurensuche gehen.\nStart: 21. September 2023\, 16:00 Uhr\, am Spielplatz in der LPG-Straße 1\, Neu Grambow\nAnmeldungen: zeitlupe@raa-mv.de\nDie Veranstaltung wird ins Deutsche bzw. Polnische gedolmetscht.\nTeilnahme kostenfrei! \n—\nGdzieś pomiędzy. Poszukiwanie śladów historii na Pomorzu to projekt skupiający wielu zaangażowanych działaczy i mieszkańców Pogranicza. Połączyło nas zainteresowanie historią miejsc\, które leżą „gdzieś pomiędzy“\, a także historie ich dawnych i obecnych mieszkańców.\nW dniu 21 września 2023 r. o godz. 16:00 zeitlupe\, perspektywa\, Kulturlandbüro oraz Stowarzyszenie na Rzecz Rozwoju Sołectwa Dołuje-Koscino zapraszają wszystkich zainteresowanych do Neu Grambow na transgraniczny spacer do Kościna.\nRazem z Wami chcemy przekroczyć granicę\, porozmawiać z mieszkańcami Kościna o trudnych początkach wsi na polskim Pomorzu po 1945 roku i wspólnie poszukać śladów historii ludzi na wiejskim Pomorzu.\nStart: 21 września 2023 r.\, godz. 16:00\, plac zabaw przy LPG-Straße 1\, Neu Grambow\nZgłoszenia prosimy kierować na adres: zeitlupe@raa-mv.de\nWydarzenie będzie tłumaczone na język niemiecki i polski.\nUdział w wydarzeniu bezpłatny!
URL:https://bruessowerland.de/events/dt-poln-exkursion-irgendwo-dazwischen-gdzies-pomiedzy/
LOCATION:Neu Grambow\, Neu Grambow\, Mecklenburg-Vorpommern\, 17322
CATEGORIES:Aktion & Exkursion,Vortrag & Mitreden
ORGANIZER;CN="Perspektywa":MAILTO:perspektywa@raa-mv.de
END:VEVENT
BEGIN:VEVENT
DTSTART;TZID=Europe/Berlin:20230626T160000
DTEND;TZID=Europe/Berlin:20230626T193000
DTSTAMP:20260421T144049
CREATED:20230619T100744Z
LAST-MODIFIED:20230619T100744Z
UID:10000041-1687795200-1687807800@bruessowerland.de
SUMMARY:Wo kommt das her - ein Pommern-Abend mit Erinnerungsstücken
DESCRIPTION:wir möchten Sie auf eine Veranstaltung aufmerksam machen und zur Teilnahme am „Wo kommt das her? Ein Pommern-Abend mit Ihren Erinnerungsstücken“ einladen. \nWO: Gutshaus Ramin\, Dorfstraße 41\, 17321 Ramin \n  \nFür die einen ist es das Halsband der Großmutter aus Königsberg\, das auf beschwerlichen Umwegen nach Vorpommern kam. Für die anderen das Bild vom Haus der Urgroßeltern in der Nähe von Lemberg. Vielleicht ist es ein Teller aus deutscher Produktion. Oder das ukrainische Tagebuch der Tante. Vielleicht sind es aber auch die Bügel ehemaliger jüdischer Geschäfte in Stettin & Löcknitz\, die im Haus bereits waren\, bevor die Eltern einzogen\, oder das abgenutzte und durch viele Hände gewanderte russische Wörterbuch. Solche Fundstücke sind von unschätzbarem Wert für alle\, die etwas über die Geschichte Ihrer Familie oder über unsere Region erfahren wollen. \nAnmeldungen: per E-Mail: zeitlupe@raa-mv.de oder Telefon: +49 (0) 175 4525 499.
URL:https://bruessowerland.de/events/wo-kommt-das-her-ein-pommern-abend-mit-erinnerungsstuecken/
LOCATION:Gutshaus Ramin\, Dorfstraße 41\, Ramin\, Mecklenburg-Vorpommern\, 17321\, Deutschland
CATEGORIES:Aktion & Exkursion,Vortrag & Mitreden
GEO:53.41285626982;14.287547769071
X-APPLE-STRUCTURED-LOCATION;VALUE=URI;X-ADDRESS=Gutshaus Ramin Dorfstraße 41 Ramin Mecklenburg-Vorpommern 17321 Deutschland;X-APPLE-RADIUS=500;X-TITLE=Dorfstraße 41:geo:14.287547769071,53.41285626982
END:VEVENT
END:VCALENDAR