BEGIN:VCALENDAR
VERSION:2.0
PRODID:-//Veranstaltungen Brüssower Land - ECPv6.15.20//NONSGML v1.0//EN
CALSCALE:GREGORIAN
METHOD:PUBLISH
X-WR-CALNAME:Veranstaltungen Brüssower Land
X-ORIGINAL-URL:https://bruessowerland.de
X-WR-CALDESC:Veranstaltungen für Veranstaltungen Brüssower Land
REFRESH-INTERVAL;VALUE=DURATION:PT1H
X-Robots-Tag:noindex
X-PUBLISHED-TTL:PT1H
BEGIN:VTIMEZONE
TZID:Europe/Berlin
BEGIN:DAYLIGHT
TZOFFSETFROM:+0100
TZOFFSETTO:+0200
TZNAME:CEST
DTSTART:20250330T010000
END:DAYLIGHT
BEGIN:STANDARD
TZOFFSETFROM:+0200
TZOFFSETTO:+0100
TZNAME:CET
DTSTART:20251026T010000
END:STANDARD
BEGIN:DAYLIGHT
TZOFFSETFROM:+0100
TZOFFSETTO:+0200
TZNAME:CEST
DTSTART:20260329T010000
END:DAYLIGHT
BEGIN:STANDARD
TZOFFSETFROM:+0200
TZOFFSETTO:+0100
TZNAME:CET
DTSTART:20261025T010000
END:STANDARD
BEGIN:DAYLIGHT
TZOFFSETFROM:+0100
TZOFFSETTO:+0200
TZNAME:CEST
DTSTART:20270328T010000
END:DAYLIGHT
BEGIN:STANDARD
TZOFFSETFROM:+0200
TZOFFSETTO:+0100
TZNAME:CET
DTSTART:20271031T010000
END:STANDARD
END:VTIMEZONE
BEGIN:VEVENT
DTSTART;TZID=Europe/Berlin:20260516T200000
DTEND;TZID=Europe/Berlin:20260516T200000
DTSTAMP:20260420T114714
CREATED:20260412T200125Z
LAST-MODIFIED:20260412T201820Z
UID:10001076-1778961600-1778961600@bruessowerland.de
SUMMARY:Sommerkino "Der Vorname" in Ziemkendorf
DESCRIPTION:Stephan und seine Frau Elisabeth laden Freunde und Familie zu einem gemütlichen Abendessen ein. Thomas und seine Frau Anna erwarten ein Kind und verkünden im Scherz\, dass sie ihren Sohn Adolf nennen werden. Die Gastgeber und Familienfreund René können nicht glauben\, was sie da gerade gehört haben. Es beginnt eine Diskussion über falsche und richtige Vornamen. Der Abend eskaliert\, als die schlimmsten Jugendsünden und die größten Geheimnisse aller Gäste ans Licht kommen. \nIn Kooperation mit dem Gemeindeförderverein Randowtal\nFür die Versorgung der Gäste wird gesorgt… und Feuerschalen stehen bereit\nEinlass ab 20:00 Uhr – Filmbeginn bei ausreichender Dunkelheit\, ca. 21:30 Uhr. \n(D 2018 | 91 min | FSK 6)
URL:https://bruessowerland.de/events/sommerkino-der-vorname-in-ziemkendorf/
LOCATION:Ziemkendorf Festwiese\, Ziemkendorf (Randowtal)\, Brandenburg\, 17291
CATEGORIES:Kino & Hörspiel
ATTACH;FMTTYPE=image/jpeg:https://bruessowerland.de/wp-content/uploads/2026/04/2026-05_vorname-ziemkend-e1776024067138.jpg
ORGANIZER;CN="Kulturhaus Kino Br%C3%BCssow":MAILTO:info@kulturhaus-kino-bruessow.de
END:VEVENT
BEGIN:VEVENT
DTSTART;TZID=Europe/Berlin:20260718T200000
DTEND;TZID=Europe/Berlin:20260718T200000
DTSTAMP:20260420T114714
CREATED:20260412T201743Z
LAST-MODIFIED:20260412T201743Z
UID:10001078-1784404800-1784404800@bruessowerland.de
SUMMARY:Sommerkino "Die Geschichte der Menschheit - leicht gekürzt" in Menkin
DESCRIPTION:Für ihre Weihnachtsfeier haben sich die lustigen Leute von der NASA einen ganz besonderen Scherz ausgedacht\, nämlich eine spaßige Alternative zur »Voyager Golden Record«. Zum allgemeinen Gaudium vorgestellt\, wird diese Jahrzehnte später irgendwo da draußen von Aliens angeschaut\, weil eine NASA-Praktikantin am Ende der Feier natürlich die Scheiben verwechselt hat. Dass die Außerirdischen schließlich stante pede Kurs auf den Planeten Erde nehmen\, um denselben zu pulverisieren\, kann man ihnen nach Ansicht dieses Films nicht verübeln. Humorforschern der Gegenwart könnte es aber die eine oder andere Nuss zu knacken geben\, vor allem in Gestalt der Frage\, warum hier eigentlich nichts lustig ist? \nIn Kooperation mit dem Dorfverein Wollschow-Menkin\nEinlass ab 20:00 Uhr – Filmbeginn bei ausreichender Dunkelheit\, ca. 22:00 Uhr. \n(D 2022 | 96 min | FSK 12)
URL:https://bruessowerland.de/events/sommerkino-die-geschichte-der-menschheit-leicht-gekuerzt-in-menkin/
LOCATION:Menkin Park mit Freilichtbühne\, Hofstraße\, Menkin (Brüssow)\, Brandenburg\, 17326\, Deutschland
CATEGORIES:Kino & Hörspiel
ATTACH;FMTTYPE=image/jpeg:https://bruessowerland.de/wp-content/uploads/2026/04/2026-07_menschheit-menkin.jpg
ORGANIZER;CN="Kulturhaus Kino Br%C3%BCssow":MAILTO:info@kulturhaus-kino-bruessow.de
GEO:53.415250040733;14.199205765117
X-APPLE-STRUCTURED-LOCATION;VALUE=URI;X-ADDRESS=Menkin Park mit Freilichtbühne Hofstraße Menkin (Brüssow) Brandenburg 17326 Deutschland;X-APPLE-RADIUS=500;X-TITLE=Hofstraße:geo:14.199205765117,53.415250040733
END:VEVENT
BEGIN:VEVENT
DTSTART;TZID=Europe/Berlin:20260724T200000
DTEND;TZID=Europe/Berlin:20260724T200000
DTSTAMP:20260420T114714
CREATED:20260412T201515Z
LAST-MODIFIED:20260412T201912Z
UID:10001077-1784923200-1784923200@bruessowerland.de
SUMMARY:Sommerkino "In einem Land das es nicht mehr gibt" in Brüssow
DESCRIPTION:Im Sommer 1989 fliegt Suzie (Marlene Burow) kurz vor dem Abitur von der Schule. Statt zu studieren\, muss sie sich nun als Arbeiterin in der sozialistischen Produktion bewähren. Ein zufälliges Foto öffnet ihr unverhofft die Tür in die glamouröse Welt der Mode von VHB Exquisit und des Modejournals Sibylle. Suzie taucht ein in die schillernde Subkultur des Ostberliner Undergrounds\, wo der extravagante Rudi (Sabin Tambrea) ihr den ‚aufrechten Gang’ beibringt. Sie verliebt sich in den rebellischen Fotografen Coyote (David Schütter) und erlebt die Freiheit\, von der sie immer geträumt hat. Doch alles hat seinen Preis: Was ist es Suzie wert\, ihren Traum zu leben? \nIn Kooperation mit dem Team der Badeanstalt Brüssow\nGetränke und Snacks verfügbar\nEinlass ab 20:00 Uhr – Filmbeginn bei ausreichender Dunkelheit\, ca. 22:00 Uhr. \n(D 2022 | 100 min | FSK 12)
URL:https://bruessowerland.de/events/sommerkino-in-einem-land-das-es-nicht-mehr-gibt-in-bruessow/
LOCATION:Badeanstalt Brüssow\, Prenzlauer Straße 19\, Brüssow\, Brandenburg\, 17326\, Deutschland
CATEGORIES:Kino & Hörspiel
ATTACH;FMTTYPE=image/jpeg:https://bruessowerland.de/wp-content/uploads/2026/04/2026-07_ohneland-badeanstalt.jpg
ORGANIZER;CN="Kulturhaus Kino Br%C3%BCssow":MAILTO:info@kulturhaus-kino-bruessow.de
GEO:53.403554296691;14.114987328201
X-APPLE-STRUCTURED-LOCATION;VALUE=URI;X-ADDRESS=Badeanstalt Brüssow Prenzlauer Straße 19 Brüssow Brandenburg 17326 Deutschland;X-APPLE-RADIUS=500;X-TITLE=Prenzlauer Straße 19:geo:14.114987328201,53.403554296691
END:VEVENT
END:VCALENDAR